BEGIN:VCALENDAR
VERSION:2.0
PRODID:-//Radlogistikverband Deutschland e. V. - ECPv6.15.20//NONSGML v1.0//EN
CALSCALE:GREGORIAN
METHOD:PUBLISH
X-ORIGINAL-URL:https://rlvd.bike
X-WR-CALDESC:Veranstaltungen für Radlogistikverband Deutschland e. V.
REFRESH-INTERVAL;VALUE=DURATION:PT1H
X-Robots-Tag:noindex
X-PUBLISHED-TTL:PT1H
BEGIN:VTIMEZONE
TZID:UTC
BEGIN:STANDARD
TZOFFSETFROM:+0000
TZOFFSETTO:+0000
TZNAME:UTC
DTSTART:20240101T000000
END:STANDARD
END:VTIMEZONE
BEGIN:VEVENT
DTSTART;VALUE=DATE:20250326
DTEND;VALUE=DATE:20250328
DTSTAMP:20260420T011318
CREATED:20250102T145545Z
LAST-MODIFIED:20250128T083956Z
UID:13988-1742947200-1743119999@rlvd.bike
SUMMARY:Flotte! Der Branchentreff
DESCRIPTION:
URL:https://rlvd.bike/event/flotte-der-branchentreff/
LOCATION:Düsseldorf\, Deutschland\, Germany
ATTACH;FMTTYPE=image/png:https://rlvd.bike/wp-content/uploads/2025/01/flotte.png
END:VEVENT
END:VCALENDAR