BEGIN:VCALENDAR
VERSION:2.0
PRODID:-//Radlogistikverband Deutschland e. V. - ECPv6.15.20//NONSGML v1.0//EN
CALSCALE:GREGORIAN
METHOD:PUBLISH
X-ORIGINAL-URL:https://rlvd.bike
X-WR-CALDESC:Veranstaltungen für Radlogistikverband Deutschland e. V.
REFRESH-INTERVAL;VALUE=DURATION:PT1H
X-Robots-Tag:noindex
X-PUBLISHED-TTL:PT1H
BEGIN:VTIMEZONE
TZID:UTC
BEGIN:STANDARD
TZOFFSETFROM:+0000
TZOFFSETTO:+0000
TZNAME:UTC
DTSTART:20240101T000000
END:STANDARD
END:VTIMEZONE
BEGIN:VEVENT
DTSTART;VALUE=DATE:20250602
DTEND;VALUE=DATE:20250606
DTSTAMP:20260419T205440
CREATED:20250102T150302Z
LAST-MODIFIED:20250202T101448Z
UID:14000-1748822400-1749167999@rlvd.bike
SUMMARY:transport logistics
DESCRIPTION:Internationale Fachmesse fürLogistik\, Mobilität\, IT und Supply Chain Management
URL:https://rlvd.bike/event/transport-logistics/
LOCATION:Messe München\, Am Messesee 2\, München\, Bayern\, 81829\, Germany
ATTACH;FMTTYPE=image/png:https://rlvd.bike/wp-content/uploads/2025/01/Bildschirmfoto-2025-02-02-um-11.10.25.png
END:VEVENT
END:VCALENDAR