BEGIN:VCALENDAR
VERSION:2.0
PRODID:-//Radlogistikverband Deutschland e. V. - ECPv6.15.20//NONSGML v1.0//EN
CALSCALE:GREGORIAN
METHOD:PUBLISH
X-WR-CALNAME:Radlogistikverband Deutschland e. V.
X-ORIGINAL-URL:https://rlvd.bike
X-WR-CALDESC:Veranstaltungen für Radlogistikverband Deutschland e. V.
REFRESH-INTERVAL;VALUE=DURATION:PT1H
X-Robots-Tag:noindex
X-PUBLISHED-TTL:PT1H
BEGIN:VTIMEZONE
TZID:UTC
BEGIN:STANDARD
TZOFFSETFROM:+0000
TZOFFSETTO:+0000
TZNAME:UTC
DTSTART:20240101T000000
END:STANDARD
END:VTIMEZONE
BEGIN:VEVENT
DTSTART;VALUE=DATE:20250606
DTEND;VALUE=DATE:20250610
DTSTAMP:20260419T205308
CREATED:20250109T090533Z
LAST-MODIFIED:20250109T090533Z
UID:14034-1749168000-1749513599@rlvd.bike
SUMMARY:Deutsche Meisterschaft der Fahrradkurier*innen (DMFK) 2025
DESCRIPTION:Die Deutsche Meisterschaft der Fahrradkuriere bringt Kuriere aus ganz Deutschland zusammen\, um ihre Fähigkeiten auf einem abgesperrten Parcours zu messen. In einer realistischen Simulation ihres Arbeitsalltags geht es darum\, Aufträge effizient zu koordinieren und gleichzeitig die eigene Ausdauer optimal einzusetzen. Am Ende triumphiert\, wer die perfekte Balance aus Organisationstalent und körperlicher Fitness zeigt.
URL:https://rlvd.bike/event/deutsche-meisterschaft-der-fahrradkurierinnen-dmfk-2025/
LOCATION:Messegelände Hannover\, Messegelände\, Hannover\, Niedersachen\, 30521\, Germany
END:VEVENT
END:VCALENDAR