BEGIN:VCALENDAR
VERSION:2.0
PRODID:-//Radlogistikverband Deutschland e. V. - ECPv6.15.20//NONSGML v1.0//EN
CALSCALE:GREGORIAN
METHOD:PUBLISH
X-ORIGINAL-URL:https://rlvd.bike
X-WR-CALDESC:Veranstaltungen für Radlogistikverband Deutschland e. V.
REFRESH-INTERVAL;VALUE=DURATION:PT1H
X-Robots-Tag:noindex
X-PUBLISHED-TTL:PT1H
BEGIN:VTIMEZONE
TZID:UTC
BEGIN:STANDARD
TZOFFSETFROM:+0000
TZOFFSETTO:+0000
TZNAME:UTC
DTSTART:20240101T000000
END:STANDARD
END:VTIMEZONE
BEGIN:VEVENT
DTSTART;VALUE=DATE:20250610
DTEND;VALUE=DATE:20250614
DTSTAMP:20260419T205717
CREATED:20250102T150434Z
LAST-MODIFIED:20250409T081930Z
UID:14003-1749513600-1749859199@rlvd.bike
SUMMARY:VeloCity
DESCRIPTION:Vom 10. bis 13. Juni 2025 findet in Danzig die Velo-city 2025 Konferenz statt\, die weltweit führende Veranstaltung für Fahrradplanung und nachhaltige Mobilität. Unter dem Motto „Energizing Solidarity“ wird die Konferenz die transformative Kraft des Radfahrens zur Förderung von Gemeinschaft und sozialem Zusammenhalt hervorheben. \nDie viertägige Veranstaltung bietet über 80 Sitzungen zu Themen wie aktive Mobilität\, nachhaltige Stadtplanung\, Fahrradtourismus und politische Maßnahmen zur Förderung des Radverkehrs. Teilnehmer können sich auf eine Vielzahl von Formaten freuen\, darunter Vorträge\, Podiumsdiskussionen\, interaktive Workshops und Debatten. \nDanzig\, bekannt für seine reiche Geschichte und beeindruckende Architektur\, verfügt über ein weitreichendes Netz von über 850 Kilometern an Fahrradwegen und ist ein bedeutender Knotenpunkt für internationale Fahrradrouten wie EuroVelo 9\, 10 und 13. \nDie Konferenz findet im modernen AMBEREXPO Messe- und Kongresszentrum statt\, das mit dem Fahrrad\, zu Fuß oder mit öffentlichen Verkehrsmitteln leicht erreichbar ist. \nTickets sind ab sofort erhältlich\, mit speziellen Konditionen für Gruppen und Frühbucher. Für weitere Informationen zum Programm\, zur Anmeldung und zu Unterkunftsmöglichkeiten besuchen Sie bitte die offizielle Webseite der Velo-city 2025 Konferenz.
URL:https://rlvd.bike/event/velocity/
LOCATION:Danzig
ATTACH;FMTTYPE=image/png:https://rlvd.bike/wp-content/uploads/2025/01/vc25_gdansk_logo.png
END:VEVENT
BEGIN:VEVENT
DTSTART;VALUE=DATE:20250611
DTEND;VALUE=DATE:20250613
DTSTAMP:20260419T205717
CREATED:20250102T150547Z
LAST-MODIFIED:20250409T084844Z
UID:14006-1749600000-1749772799@rlvd.bike
SUMMARY:abgesagt: polisMOBILITY
DESCRIPTION:Absage der polisMOBILITY 2025\nEigentlich hätten wir an dieser Stelle gerne auf die nächste Ausgabe der polisMOBILITY expo & conference im Juni 2025 hingewiesen. Leider müssen wir Sie jedoch darüber informieren\, dass die Veranstaltung nicht wie geplant stattfinden wird. \nWie die Koelnmesse mitteilt\, wurde die polisMOBILITY 2025 nach sorgfältiger Abwägung der aktuellen Rahmenbedingungen abgesagt. Hintergrund sind die derzeit herausfordernden Entwicklungen in der Mobilitätsbranche: Unklare politische und wirtschaftliche Perspektiven führen zu spürbarer Zurückhaltung bei vielen Akteuren\, was sich auch im Buchungs- und Anmeldeverhalten bemerkbar macht. \nZudem sehen sich viele Städte und Kommunen mit angespannten Haushalten und teils verhängten Haushaltssperren konfrontiert. Auch in der Privatwirtschaft zeigt sich Zurückhaltung – geplante Investitionen werden verschoben\, Marketingbudgets gekürzt. Verschärft wird die Lage durch die globale wirtschaftliche Unsicherheit und den Rückzug einiger großer Akteure aus dem Mobilitätssektor. Potenziell positive Impulse durch geplante politische Infrastrukturmaßnahmen sind derzeit noch nicht absehbar. \nWir bedauern die Absage sehr – vor allem angesichts der Relevanz\, die das Thema nachhaltige urbane Mobilität weiterhin besitzt.
URL:https://rlvd.bike/event/polis-mobility/
LOCATION:Köln
ATTACH;FMTTYPE=image/png:https://rlvd.bike/wp-content/uploads/2025/01/polismobility_logo_500x200_png.png
END:VEVENT
END:VCALENDAR