BEGIN:VCALENDAR
VERSION:2.0
PRODID:-//Radlogistikverband Deutschland e. V. - ECPv6.15.20//NONSGML v1.0//EN
CALSCALE:GREGORIAN
METHOD:PUBLISH
X-ORIGINAL-URL:https://rlvd.bike
X-WR-CALDESC:Veranstaltungen für Radlogistikverband Deutschland e. V.
REFRESH-INTERVAL;VALUE=DURATION:PT1H
X-Robots-Tag:noindex
X-PUBLISHED-TTL:PT1H
BEGIN:VTIMEZONE
TZID:Europe/Berlin
BEGIN:DAYLIGHT
TZOFFSETFROM:+0100
TZOFFSETTO:+0200
TZNAME:CEST
DTSTART:20240331T010000
END:DAYLIGHT
BEGIN:STANDARD
TZOFFSETFROM:+0200
TZOFFSETTO:+0100
TZNAME:CET
DTSTART:20241027T010000
END:STANDARD
BEGIN:DAYLIGHT
TZOFFSETFROM:+0100
TZOFFSETTO:+0200
TZNAME:CEST
DTSTART:20250330T010000
END:DAYLIGHT
BEGIN:STANDARD
TZOFFSETFROM:+0200
TZOFFSETTO:+0100
TZNAME:CET
DTSTART:20251026T010000
END:STANDARD
BEGIN:DAYLIGHT
TZOFFSETFROM:+0100
TZOFFSETTO:+0200
TZNAME:CEST
DTSTART:20260329T010000
END:DAYLIGHT
BEGIN:STANDARD
TZOFFSETFROM:+0200
TZOFFSETTO:+0100
TZNAME:CET
DTSTART:20261025T010000
END:STANDARD
END:VTIMEZONE
BEGIN:VEVENT
DTSTART;TZID=Europe/Berlin:20250618T100000
DTEND;TZID=Europe/Berlin:20250618T120000
DTSTAMP:20260419T205717
CREATED:20250406T150048Z
LAST-MODIFIED:20250406T150048Z
UID:14272-1750240800-1750248000@rlvd.bike
SUMMARY:Webinar-Reihe Radlogistik - „Einbettung der Radlogistik in Logistiksysteme“
DESCRIPTION:Das Mobilitätsforum Bund bietet eine neue Webinar-Reihe zur Radlogistik an. Die fünfteilige Veranstaltungsreihe gibt einen tiefgehenden Einblick in die nachhaltige Gestaltung der urbanen Logistik und des Wirtschaftsverkehrs. Autorinnen und Autoren des Fachbuchs „Radlogistik“ bieten als Referierende in thematischen Clustern einen fokussierten Einstieg in das Themengebiet. Expertinnen und Experten der Branche haben die Webinar-Reihe fachlich konzeptioniert.
URL:https://rlvd.bike/event/webinar-reihe-radlogistik-einbettung-der-radlogistik-in-logistiksysteme/
LOCATION:Online
ATTACH;FMTTYPE=image/jpeg:https://rlvd.bike/wp-content/uploads/2025/04/Logo_MFB_mit_Claim-e1743951508204.jpg
END:VEVENT
END:VCALENDAR