BEGIN:VCALENDAR
VERSION:2.0
PRODID:-//Radlogistikverband Deutschland e. V. - ECPv6.15.20//NONSGML v1.0//EN
CALSCALE:GREGORIAN
METHOD:PUBLISH
X-WR-CALNAME:Radlogistikverband Deutschland e. V.
X-ORIGINAL-URL:https://rlvd.bike
X-WR-CALDESC:Veranstaltungen für Radlogistikverband Deutschland e. V.
REFRESH-INTERVAL;VALUE=DURATION:PT1H
X-Robots-Tag:noindex
X-PUBLISHED-TTL:PT1H
BEGIN:VTIMEZONE
TZID:UTC
BEGIN:STANDARD
TZOFFSETFROM:+0000
TZOFFSETTO:+0000
TZNAME:UTC
DTSTART:20240101T000000
END:STANDARD
END:VTIMEZONE
BEGIN:VEVENT
DTSTART;VALUE=DATE:20250909
DTEND;VALUE=DATE:20250915
DTSTAMP:20260420T024420
CREATED:20250102T150940Z
LAST-MODIFIED:20250128T083131Z
UID:14015-1757376000-1757894399@rlvd.bike
SUMMARY:IAA Mobility
DESCRIPTION:
URL:https://rlvd.bike/event/iaa-mobility/
LOCATION:München
ATTACH;FMTTYPE=image/png:https://rlvd.bike/wp-content/uploads/2025/01/IAA_MOBILITY_2025_Logo_Black_2Line.png
END:VEVENT
END:VCALENDAR