BEGIN:VCALENDAR
VERSION:2.0
PRODID:-//Radlogistikverband Deutschland e. V. - ECPv6.15.20//NONSGML v1.0//EN
CALSCALE:GREGORIAN
METHOD:PUBLISH
X-ORIGINAL-URL:https://rlvd.bike
X-WR-CALDESC:Veranstaltungen für Radlogistikverband Deutschland e. V.
REFRESH-INTERVAL;VALUE=DURATION:PT1H
X-Robots-Tag:noindex
X-PUBLISHED-TTL:PT1H
BEGIN:VTIMEZONE
TZID:Europe/Berlin
BEGIN:DAYLIGHT
TZOFFSETFROM:+0100
TZOFFSETTO:+0200
TZNAME:CEST
DTSTART:20250330T010000
END:DAYLIGHT
BEGIN:STANDARD
TZOFFSETFROM:+0200
TZOFFSETTO:+0100
TZNAME:CET
DTSTART:20251026T010000
END:STANDARD
BEGIN:DAYLIGHT
TZOFFSETFROM:+0100
TZOFFSETTO:+0200
TZNAME:CEST
DTSTART:20260329T010000
END:DAYLIGHT
BEGIN:STANDARD
TZOFFSETFROM:+0200
TZOFFSETTO:+0100
TZNAME:CET
DTSTART:20261025T010000
END:STANDARD
BEGIN:DAYLIGHT
TZOFFSETFROM:+0100
TZOFFSETTO:+0200
TZNAME:CEST
DTSTART:20270328T010000
END:DAYLIGHT
BEGIN:STANDARD
TZOFFSETFROM:+0200
TZOFFSETTO:+0100
TZNAME:CET
DTSTART:20271031T010000
END:STANDARD
END:VTIMEZONE
BEGIN:VEVENT
DTSTART;TZID=Europe/Berlin:20260220T140000
DTEND;TZID=Europe/Berlin:20260220T153000
DTSTAMP:20260424T213232
CREATED:20260116T121045Z
LAST-MODIFIED:20260116T121129Z
UID:15166-1771596000-1771601400@rlvd.bike
SUMMARY:Mitgliederversammlung
DESCRIPTION:Die offizielle Mitgliederversammlung des RLVD richtet sich ausschließlich an Mitglieder. Die Einladung inkl. Agenda wird separat per E-Mail übersandt. \nDie Versammlung findet als Online-Termin per Google Meet statt. \nMitglied werden
URL:https://rlvd.bike/event/rlvd-mitgliederversammlung-2026/
ATTACH;FMTTYPE=image/png:https://rlvd.bike/wp-content/uploads/2022/09/RLVD-Logo.png
ORGANIZER;CN="Radlogistikverband Deutschland e.V.":MAILTO:info@rlvd.bike
END:VEVENT
END:VCALENDAR