BEGIN:VCALENDAR
VERSION:2.0
PRODID:-//Radlogistikverband Deutschland e. V. - ECPv6.15.20//NONSGML v1.0//EN
CALSCALE:GREGORIAN
METHOD:PUBLISH
X-WR-CALNAME:Radlogistikverband Deutschland e. V.
X-ORIGINAL-URL:https://rlvd.bike
X-WR-CALDESC:Veranstaltungen für Radlogistikverband Deutschland e. V.
REFRESH-INTERVAL;VALUE=DURATION:PT1H
X-Robots-Tag:noindex
X-PUBLISHED-TTL:PT1H
BEGIN:VTIMEZONE
TZID:Europe/Berlin
BEGIN:DAYLIGHT
TZOFFSETFROM:+0100
TZOFFSETTO:+0200
TZNAME:CEST
DTSTART:20240331T010000
END:DAYLIGHT
BEGIN:STANDARD
TZOFFSETFROM:+0200
TZOFFSETTO:+0100
TZNAME:CET
DTSTART:20241027T010000
END:STANDARD
BEGIN:DAYLIGHT
TZOFFSETFROM:+0100
TZOFFSETTO:+0200
TZNAME:CEST
DTSTART:20250330T010000
END:DAYLIGHT
BEGIN:STANDARD
TZOFFSETFROM:+0200
TZOFFSETTO:+0100
TZNAME:CET
DTSTART:20251026T010000
END:STANDARD
BEGIN:DAYLIGHT
TZOFFSETFROM:+0100
TZOFFSETTO:+0200
TZNAME:CEST
DTSTART:20260329T010000
END:DAYLIGHT
BEGIN:STANDARD
TZOFFSETFROM:+0200
TZOFFSETTO:+0100
TZNAME:CET
DTSTART:20261025T010000
END:STANDARD
END:VTIMEZONE
BEGIN:VEVENT
DTSTART;TZID=Europe/Berlin:20251018T093000
DTEND;TZID=Europe/Berlin:20251018T180000
DTSTAMP:20260424T114720
CREATED:20250910T072109Z
LAST-MODIFIED:20251008T075049Z
UID:14887-1760779800-1760810400@rlvd.bike
SUMMARY:PEDAL – Plattform Operative Radlogistik
DESCRIPTION:Die Registrierung ist geöffnet. Sichern Sie sich die Teilnahme am Branchenevent in München. Die Tickets sind begrenzt. \nWeitere Informationen und Anmeldemöglichkeit unter https://rlvd.bike/pedal/pedal2/ \nIn Kooperation mit dem BdKEP.
URL:https://rlvd.bike/event/pedal-plattform-operative-radlogistik-2/
LOCATION:München
ATTACH;FMTTYPE=image/jpeg:https://rlvd.bike/wp-content/uploads/2025/10/pedal2-scaled.jpg
ORGANIZER;CN="Radlogistikverband Deutschland e.V.":MAILTO:info@rlvd.bike
END:VEVENT
END:VCALENDAR